BEGIN:VCALENDAR
VERSION:2.0
PRODID:-//Dahlem - ECPv6.15.20//NONSGML v1.0//EN
CALSCALE:GREGORIAN
METHOD:PUBLISH
X-ORIGINAL-URL:https://www.dahlemcenter.org
X-WR-CALDESC:Events for Dahlem
REFRESH-INTERVAL;VALUE=DURATION:PT1H
X-Robots-Tag:noindex
X-PUBLISHED-TTL:PT1H
BEGIN:VTIMEZONE
TZID:America/Detroit
BEGIN:DAYLIGHT
TZOFFSETFROM:-0500
TZOFFSETTO:-0400
TZNAME:EDT
DTSTART:20210314T070000
END:DAYLIGHT
BEGIN:STANDARD
TZOFFSETFROM:-0400
TZOFFSETTO:-0500
TZNAME:EST
DTSTART:20211107T060000
END:STANDARD
BEGIN:DAYLIGHT
TZOFFSETFROM:-0500
TZOFFSETTO:-0400
TZNAME:EDT
DTSTART:20220313T070000
END:DAYLIGHT
BEGIN:STANDARD
TZOFFSETFROM:-0400
TZOFFSETTO:-0500
TZNAME:EST
DTSTART:20221106T060000
END:STANDARD
BEGIN:DAYLIGHT
TZOFFSETFROM:-0500
TZOFFSETTO:-0400
TZNAME:EDT
DTSTART:20230312T070000
END:DAYLIGHT
BEGIN:STANDARD
TZOFFSETFROM:-0400
TZOFFSETTO:-0500
TZNAME:EST
DTSTART:20231105T060000
END:STANDARD
END:VTIMEZONE
BEGIN:VEVENT
DTSTART;TZID=America/Detroit:20220423T130000
DTEND;TZID=America/Detroit:20220423T160000
DTSTAMP:20260425T235113
CREATED:20220415T181900Z
LAST-MODIFIED:20220415T182443Z
UID:9818-1650718800-1650729600@www.dahlemcenter.org
SUMMARY:Earth Day Celebration April 23\, 2022
DESCRIPTION:Celebrate Earth Day with us on April 23rd from 1-4pm at Sparks Foundation County Park. The event will be near the Cascades Amphitheater and the fishing pond. This is a free family event. \nJackson County Conservation District organized and is planning for live music by Kevin Nichols\, ARK Animal Encounters\, family-friendly activities\, Free document shredding\, and more. There are many local organizations that will be there\, so mark the date and bring the family!  For additional information or to contact JCCD for questions\, go to their website. \nThank You Sponsors: Emmons Service Inc.\, Granger Waste Services\, MACI\, American 1 Credit Union\, Legacy Land Conservancy\, Jackson County Farm Bureau\, Little Caesars Pizza\, Dahlem Conservancy\, Krupa’s Boat Mart\, Recycling Jackson\, Green Stone and Consumers Energy for helping make this event a success. \n 
URL:https://www.dahlemcenter.org/event/earth-day-celebration-april-23-2022/
CATEGORIES:Event-Festival
ATTACH;FMTTYPE=image/jpeg:https://www.dahlemcenter.org/wp-content/uploads/2022/04/2022-Earth-Day-Flyer.jpg
END:VEVENT
BEGIN:VEVENT
DTSTART;VALUE=DATE:20220428
DTEND;VALUE=DATE:20220430
DTSTAMP:20260425T235113
CREATED:20220329T212840Z
LAST-MODIFIED:20220418T153920Z
UID:9785-1651104000-1651276799@www.dahlemcenter.org
SUMMARY:Fairy Walks 2022
DESCRIPTION:Dates and Times:\nApril 28 Thursday 5:00 pm – 7:00 pm \nApril 29 Friday 5:00 pm – 7:00 pm\nFee per person:  FREE for members\, $5 non-member (free for babies under age 2) \nSpecial Offer: sign up online for a new Family Membership and save 10% off the membership fee. Valid for first time members only. For Returning members\, subscribe to an annual online membership renewal and get 10% off the membership fee for the first year. \nPre-Registration is required to attend our first annual partnership with Jackson School of the Arts: Dahlem’s Fairy Walks Event.  \nEvery 10 minutes a group of 12 people head down the trail to enjoy a springtime eye-spy adventure on a 1/2 mile accessible trail walk lead by fairies and gnomes. The walk will introduce children (and adults!) to some of the habitats our creatures call home. We will wrap up at the pavilion where Fairy Faith from the Albion District Library will lead the children in some fairytale songs and tell a story. The program is about 1/2 hour in length.  Play with bubbles\, photo opportunities\,  and visit the gift shop. It’s great fun for the whole family!! \nREGISTRATION REQUIRED for Dahlem members and non-members\, so don’t wait – choice slots fill fast.  Please arrive 10 minutes before your tour walk to allow time to sign in. We have a 48 hour cancellation policy. If you don’t call to cancel and don’t show\, you will be charged the full amount.  Dress for the weather! \n\nCome Join the Fairy Court– Volunteers Make it Happen!\nVolunteer opportunities for this great event are available. To volunteer\, contact Margaux Dever\, 517-782-3453 or mdever@dahlemcenter.org \n\nApril 28\, Thursday 12-4 PM — set up at pavilion and decorate trails\nApril 28 and 29 (pick a day for a 2-hour commitment) — Costumed Trail Guide\n\n 
URL:https://www.dahlemcenter.org/event/fw2022/
LOCATION:Dahlem\, Jackson’s Nature Place\, 7117 S. Jackson Rd.\, Jackson\, MI\, 49201\, United States
CATEGORIES:Event-Festival
ATTACH;FMTTYPE=image/png:https://www.dahlemcenter.org/wp-content/uploads/2022/03/Fairy-Walks-Header.png
END:VEVENT
END:VCALENDAR