BEGIN:VCALENDAR
VERSION:2.0
PRODID:-//Dahlem - ECPv6.15.20//NONSGML v1.0//EN
CALSCALE:GREGORIAN
METHOD:PUBLISH
X-ORIGINAL-URL:https://www.dahlemcenter.org
X-WR-CALDESC:Events for Dahlem
REFRESH-INTERVAL;VALUE=DURATION:PT1H
X-Robots-Tag:noindex
X-PUBLISHED-TTL:PT1H
BEGIN:VTIMEZONE
TZID:America/Detroit
BEGIN:DAYLIGHT
TZOFFSETFROM:-0500
TZOFFSETTO:-0400
TZNAME:EDT
DTSTART:20210314T070000
END:DAYLIGHT
BEGIN:STANDARD
TZOFFSETFROM:-0400
TZOFFSETTO:-0500
TZNAME:EST
DTSTART:20211107T060000
END:STANDARD
BEGIN:DAYLIGHT
TZOFFSETFROM:-0500
TZOFFSETTO:-0400
TZNAME:EDT
DTSTART:20220313T070000
END:DAYLIGHT
BEGIN:STANDARD
TZOFFSETFROM:-0400
TZOFFSETTO:-0500
TZNAME:EST
DTSTART:20221106T060000
END:STANDARD
BEGIN:DAYLIGHT
TZOFFSETFROM:-0500
TZOFFSETTO:-0400
TZNAME:EDT
DTSTART:20230312T070000
END:DAYLIGHT
BEGIN:STANDARD
TZOFFSETFROM:-0400
TZOFFSETTO:-0500
TZNAME:EST
DTSTART:20231105T060000
END:STANDARD
END:VTIMEZONE
BEGIN:VEVENT
DTSTART;TZID=America/Detroit:20221001T090000
DTEND;TZID=America/Detroit:20221001T130000
DTSTAMP:20260425T132122
CREATED:20220531T164446Z
LAST-MODIFIED:20220930T030939Z
UID:9845-1664614800-1664629200@www.dahlemcenter.org
SUMMARY:Annual Fall Work Bee - Oct. 1\, 2022
DESCRIPTION:It is the perfect time of the year to address any maintenance that is necessary after summer.  This year’s Annual Fall Work Bee is on Saturday October 1st\, 2022 from 9:00 AM – 1:00 PM.\nVolunteers please arrive at 8:45 AM to sign in. Assignments are given out at the start of the day at 9:00 AM. After the work is done we will have a complimentary Tailgate Lunch! The staff will provide a lite lunch for all volunteers participating this day!\n** Please complete the form below so we know how many volunteers to anticipate and provide lunch for **\n\nWhat will I be doing at the Work Bee?\nAssignments are given out at the start of the day at 9:00 AM. If you have an interest in something particular\, let us know! Our goal is to utilize a volunteer’s individual strengths as much as possible. Here are some areas we plan to tackle: \n\nRemove old fencing along S. Jackson Rd.\nClear out invasive plants in designated light-workout stations along the Nature For All Trail\nRemove invasive plants… many areas throughout the arboretum\nPlace woodchips on the Natural Playscape\nWeeding around the buildings\nPut the gardens to bed for the winter\nWash windows and indoor walls (hallway and restrooms)\nWash bird feeders\n\nWe welcome you to bring your own personal equipment such as rakes\, garden shears\, shovels\, and other tools that would help assist the process.  Friendly reminder; to dress for the weather\, bring your work gloves and a full bottle of water!  Most participants will be working outdoors.   THANK YOU for your consideration and support for Jackson’s Nature Place. \nFeel free to contact the office at 517-782-3453 ext. 0 should you have questions or concerns.  Thank you!
URL:https://www.dahlemcenter.org/event/annual-fall-work-bee-oct-1-2022/
LOCATION:Dahlem\, Jackson’s Nature Place\, 7117 S. Jackson Rd.\, Jackson\, MI\, 49201\, United States
CATEGORIES:Event-Festival
ATTACH;FMTTYPE=image/jpeg:https://www.dahlemcenter.org/wp-content/uploads/2022/08/Workbee-Fall-Oct-2022.jpg
END:VEVENT
BEGIN:VEVENT
DTSTART;VALUE=DATE:20221021
DTEND;VALUE=DATE:20221023
DTSTAMP:20260425T132122
CREATED:20210901T190641Z
LAST-MODIFIED:20220915T131903Z
UID:9309-1666310400-1666483199@www.dahlemcenter.org
SUMMARY:Goblin Walks
DESCRIPTION:Dates and Times:\nOctober 21 Friday 6:30 pm – 8:30 pm \nOctober 22 Saturday 5:00 pm – 7:30 pm\nFee per person:  $9/member\, $12/non-member (free for infants) \nSpecial Offer: sign up online for a new Family Membership and save 10% off the membership fee. Valid for first time members only. \nPre-Registration required to attend our annual Goblin Walks event.  Every 15 minutes a group of twenty people head down the trail to enjoy an evening autumn color tour\, a 1/2 mile trail walk meeting larger than life critters performing entertaining educational skits. The program is about one hour in length.  Photo opportunities\, refreshments (cider & donuts!)\, and visit the gift shop. It’s great fun for the whole family!! \nREGISTRATION REQUIRED for Dahlem members and non-members\, so don’t wait – choice slots fill fast.  Please arrive 10 minutes before your tour walk to allow time to sign in. We have a 24 hour cancellation policy. If you don’t call to cancel and don’t show\, you will be charged the full amount.  Dress for the weather! \nThank you to our Event Sponsor  \n  \n\n\nCome Join our Boo Crew – Volunteers Make it Happen\nVolunteer opportunities for this great event are available. To volunteer\, contact Carrie at 517-782-3453 ext. 106 or email cbenham@dahlemcenter.org. \n\nCast members needed for the fun skits on Oct 21 and 22. We have the skits and costumes. Give it a try! It’s so much fun\, you’ll be glad you joined the cast.\nOct 20 Thursday 9:00am-3:00pm — set up and decorate trails\nOct 20 Thursday 10:00am-3:00pm — pumpkin carving\nOct 21 Friday 10:00am-3:00pm — pumpkin carving\, place carved pumpkins on trail route\nOct 21 and/or Oct 22 (pick a day for a 3-hour commitment) — parking lot attendant\, registration table\, greeter\, bonfire\, floater\nOct 21 and/or Oct 22 (pick a day for a 2-hour commitment) — Costumed Trail Guide\n\n 
URL:https://www.dahlemcenter.org/event/goblin-walks-2021-oct-22-friday-and-oct-23-saturday/
LOCATION:Dahlem\, Jackson’s Nature Place\, 7117 S. Jackson Rd.\, Jackson\, MI\, 49201\, United States
CATEGORIES:Event-Festival
ATTACH;FMTTYPE=image/jpeg:https://www.dahlemcenter.org/wp-content/uploads/2021/09/Goblin-Walks-2022-image-with-MACI-logo.jpg
END:VEVENT
END:VCALENDAR