BEGIN:VCALENDAR
VERSION:2.0
PRODID:-//Dahlem - ECPv6.15.20//NONSGML v1.0//EN
CALSCALE:GREGORIAN
METHOD:PUBLISH
X-ORIGINAL-URL:https://www.dahlemcenter.org
X-WR-CALDESC:Events for Dahlem
REFRESH-INTERVAL;VALUE=DURATION:PT1H
X-Robots-Tag:noindex
X-PUBLISHED-TTL:PT1H
BEGIN:VTIMEZONE
TZID:America/Detroit
BEGIN:DAYLIGHT
TZOFFSETFROM:-0500
TZOFFSETTO:-0400
TZNAME:EDT
DTSTART:20220313T070000
END:DAYLIGHT
BEGIN:STANDARD
TZOFFSETFROM:-0400
TZOFFSETTO:-0500
TZNAME:EST
DTSTART:20221106T060000
END:STANDARD
BEGIN:DAYLIGHT
TZOFFSETFROM:-0500
TZOFFSETTO:-0400
TZNAME:EDT
DTSTART:20230312T070000
END:DAYLIGHT
BEGIN:STANDARD
TZOFFSETFROM:-0400
TZOFFSETTO:-0500
TZNAME:EST
DTSTART:20231105T060000
END:STANDARD
BEGIN:DAYLIGHT
TZOFFSETFROM:-0500
TZOFFSETTO:-0400
TZNAME:EDT
DTSTART:20240310T070000
END:DAYLIGHT
BEGIN:STANDARD
TZOFFSETFROM:-0400
TZOFFSETTO:-0500
TZNAME:EST
DTSTART:20241103T060000
END:STANDARD
END:VTIMEZONE
BEGIN:VEVENT
DTSTART;TZID=America/Detroit:20230710T180000
DTEND;TZID=America/Detroit:20230710T190000
DTSTAMP:20260424T220619
CREATED:20230623T170352Z
LAST-MODIFIED:20230623T170352Z
UID:10629-1689012000-1689015600@www.dahlemcenter.org
SUMMARY:Free Concert with The Harmony Gardeners!
DESCRIPTION:Join us for a fun-filled evening of music at the Dahlem Center! Bring the entire family and your lawn chairs or picnic blanket to enjoy an outdoor concert featuring The Harmony Gardeners.  The event is completely free and open to the public\, so be sure to invite your friends and neighbors. There will even be free giveaways!  This is a wonderful concert for the family!
URL:https://www.dahlemcenter.org/event/free-concert-with-the-harmony-gardeners/
LOCATION:Dahlem\, Jackson’s Nature Place\, 7117 S. Jackson Rd.\, Jackson\, MI\, 49201\, United States
CATEGORIES:Event-Festival
ATTACH;FMTTYPE=image/png:https://www.dahlemcenter.org/wp-content/uploads/2023/06/Grant-Graphic-1-July-2023.png
END:VEVENT
BEGIN:VEVENT
DTSTART;TZID=America/Detroit:20230727T150000
DTEND;TZID=America/Detroit:20230727T190000
DTSTAMP:20260424T220619
CREATED:20230623T171200Z
LAST-MODIFIED:20230623T172228Z
UID:10632-1690470000-1690484400@www.dahlemcenter.org
SUMMARY:Jackson Back To School Blast - Community Resource Fair
DESCRIPTION:Thursday\, July 27th – Back to School Blast (downtown Jackson)\nStop by the Dahlem booth from 3 – 7 p.m. and say hi while you check out the Jackson Back to School Blast Community Resource Fair in downtown Jackson at Horace Blackman Park and First United Methodist Church.  This community event is free! Students in attendance will receive a backpack filled with school supplies and there will be games and activities for all ages.
URL:https://www.dahlemcenter.org/event/jackson-back-to-school-blast-community-resource-fair/
LOCATION:Horace Blackman Park\, Jackson MI\, W Michigan Ave & S Jackson St\, Jackson\, MI 49201\, Jackson\, MI\, 49201\, United States
CATEGORIES:Event-Festival
ATTACH;FMTTYPE=image/jpeg:https://www.dahlemcenter.org/wp-content/uploads/2023/06/Back-to-School-Community-Event-July-2023.jpg
END:VEVENT
END:VCALENDAR