BEGIN:VCALENDAR
VERSION:2.0
PRODID:-//Dahlem - ECPv6.15.20//NONSGML v1.0//EN
CALSCALE:GREGORIAN
METHOD:PUBLISH
X-WR-CALNAME:Dahlem
X-ORIGINAL-URL:https://www.dahlemcenter.org
X-WR-CALDESC:Events for Dahlem
REFRESH-INTERVAL;VALUE=DURATION:PT1H
X-Robots-Tag:noindex
X-PUBLISHED-TTL:PT1H
BEGIN:VTIMEZONE
TZID:America/Detroit
BEGIN:DAYLIGHT
TZOFFSETFROM:-0500
TZOFFSETTO:-0400
TZNAME:EDT
DTSTART:20230312T070000
END:DAYLIGHT
BEGIN:STANDARD
TZOFFSETFROM:-0400
TZOFFSETTO:-0500
TZNAME:EST
DTSTART:20231105T060000
END:STANDARD
BEGIN:DAYLIGHT
TZOFFSETFROM:-0500
TZOFFSETTO:-0400
TZNAME:EDT
DTSTART:20240310T070000
END:DAYLIGHT
BEGIN:STANDARD
TZOFFSETFROM:-0400
TZOFFSETTO:-0500
TZNAME:EST
DTSTART:20241103T060000
END:STANDARD
BEGIN:DAYLIGHT
TZOFFSETFROM:-0500
TZOFFSETTO:-0400
TZNAME:EDT
DTSTART:20250309T070000
END:DAYLIGHT
BEGIN:STANDARD
TZOFFSETFROM:-0400
TZOFFSETTO:-0500
TZNAME:EST
DTSTART:20251102T060000
END:STANDARD
END:VTIMEZONE
BEGIN:VEVENT
DTSTART;TZID=America/Detroit:20240308T170000
DTEND;TZID=America/Detroit:20240308T190000
DTSTAMP:20260424T092312
CREATED:20231213T192014Z
LAST-MODIFIED:20240222T195535Z
UID:11053-1709917200-1709924400@www.dahlemcenter.org
SUMMARY:Chocolate Sensation 2024
DESCRIPTION:Join us for Chocolate Sensation 2024!\nOur premier Chocolate Sensation event will be held at Weatherwax Hall at Jackson Symphony Orchestra on Friday\, March 8th\, 2024.  Reservations are required. \nEnjoy outstanding hors d’oeuvres by The Catering Company\, delicious delicacies provided by popular local vendors\, listen to live music by Brandon Marceal\, participate in a silent auction and raffles\, cash bar\, and socialize with fellow friends of Dahlem. \nWe look forward to seeing you at Chocolate Sensation! \n  \nThank you event sponsors! \n           \n           \n 
URL:https://www.dahlemcenter.org/event/chocolate-sensation-2024/
LOCATION:Jackson Symphony Orchestra\, 215 W Michigan Ave\, Jackson\, MI\, 49201
CATEGORIES:Event-Festival,Fundraiser
ATTACH;FMTTYPE=image/png:https://www.dahlemcenter.org/wp-content/uploads/2023/12/Chocolate-Sensation-2024-3.png
END:VEVENT
BEGIN:VEVENT
DTSTART;TZID=America/Detroit:20240316T100000
DTEND;TZID=America/Detroit:20240316T140000
DTSTAMP:20260424T092312
CREATED:20240103T200103Z
LAST-MODIFIED:20240315T153422Z
UID:11089-1710583200-1710597600@www.dahlemcenter.org
SUMMARY:Maple Madness Interpretive Tours - March 16
DESCRIPTION:Maple Madness Interpretive Tours — Dahlem’s maple sugaring operation is small but an ideal site to demonstrate the science of collecting maple tree sap and making our favorite tasty maple syrup topping. \nSign up for an interpretive guided 1 1/4 hour tour at 10:00 am or 12:00 pm to learn about the history of sugaring\, and learn through hands-on STEM activities; how to identify maple trees\, drilling & tapping\, the tree’s many jobs\, and finally\, see the sap being boiled down on the wood stove at our historic sugar shack\, and where everyone gets to taste the sweet golden nectar of the sugar maple. \nFee: $6/Dahlem member; $8/non-member; $20 Member Family (same household) and $25 Non-member Family (same household).  Advanced registration required. Complete the registration form below or call the office at 517-782-3453 ext. 0 to sign up and pay for your spot.  NOTE: Walk-ins are welcome to join us as we have open spots for both tours.  Please arrive 5 to 10 minutes early to sign in and pay.  See you soon!! \nCancellation Policy: minimum 24 hour notice via phone call or email .  If you don’t call to cancel and don’t show\, you will be charged the full amount. \nThe Dahlem Conservancy\, 7117 S. Jackson Rd.\, Jackson 49201 just 15 minutes from downtown Jackson. \n 
URL:https://www.dahlemcenter.org/event/maple-madness-interpretive-tours-march-16/
LOCATION:Dahlem\, Jackson’s Nature Place\, 7117 S. Jackson Rd.\, Jackson\, MI\, 49201\, United States
CATEGORIES:Event-Festival
ATTACH;FMTTYPE=image/jpeg:https://www.dahlemcenter.org/wp-content/uploads/2024/01/Maple-Madness-16-March-2024.jpg
END:VEVENT
END:VCALENDAR