BEGIN:VCALENDAR
VERSION:2.0
PRODID:-//Dahlem - ECPv6.15.20//NONSGML v1.0//EN
CALSCALE:GREGORIAN
METHOD:PUBLISH
X-WR-CALNAME:Dahlem
X-ORIGINAL-URL:https://www.dahlemcenter.org
X-WR-CALDESC:Events for Dahlem
REFRESH-INTERVAL;VALUE=DURATION:PT1H
X-Robots-Tag:noindex
X-PUBLISHED-TTL:PT1H
BEGIN:VTIMEZONE
TZID:America/Detroit
BEGIN:DAYLIGHT
TZOFFSETFROM:-0500
TZOFFSETTO:-0400
TZNAME:EDT
DTSTART:20240310T070000
END:DAYLIGHT
BEGIN:STANDARD
TZOFFSETFROM:-0400
TZOFFSETTO:-0500
TZNAME:EST
DTSTART:20241103T060000
END:STANDARD
BEGIN:DAYLIGHT
TZOFFSETFROM:-0500
TZOFFSETTO:-0400
TZNAME:EDT
DTSTART:20250309T070000
END:DAYLIGHT
BEGIN:STANDARD
TZOFFSETFROM:-0400
TZOFFSETTO:-0500
TZNAME:EST
DTSTART:20251102T060000
END:STANDARD
BEGIN:DAYLIGHT
TZOFFSETFROM:-0500
TZOFFSETTO:-0400
TZNAME:EDT
DTSTART:20260308T070000
END:DAYLIGHT
BEGIN:STANDARD
TZOFFSETFROM:-0400
TZOFFSETTO:-0500
TZNAME:EST
DTSTART:20261101T060000
END:STANDARD
END:VTIMEZONE
BEGIN:VEVENT
DTSTART;TZID=America/Detroit:20250315T100000
DTEND;TZID=America/Detroit:20250315T140000
DTSTAMP:20260421T132803
CREATED:20241219T174930Z
LAST-MODIFIED:20250315T132204Z
UID:12094-1742032800-1742047200@www.dahlemcenter.org
SUMMARY:Maple Madness Interpretive Tours - March 15\, 2025
DESCRIPTION:Maple Madness Interpretive Tours — Dahlem’s maple sugaring operation is small but an ideal site to demonstrate the science of collecting maple tree sap and making our favorite tasty maple syrup topping. \nSign up for an interpretive guided 1 1/4 hour tour at 10:00 am (sold out) or 12:30 pm (has 38 open spots) to learn about the history of sugaring\, and learn through hands-on STEM activities; how to identify maple trees\, drilling & tapping\, the tree’s many jobs\, and finally\, see the sap being boiled down on the wood stove at our historic sugar shack\, and where everyone gets to taste the sweet golden nectar of the sugar maple. \nFee: $6/Dahlem member; $8/non-member; $20 Member Family (same household) and $25 Non-member Family (same household).  Advanced registration required. Complete the registration form below or call the office at 517-782-3453 ext. 101 to sign up and pay for your spot. \nCancellation Policy: minimum 24 hour notice via phone call or email .  If you don’t call to cancel and don’t show\, you will be charged the full amount. \nThe Dahlem Conservancy\, 7117 S. Jackson Rd.\, Jackson 49201 just 15 minutes from downtown Jackson. \n 
URL:https://www.dahlemcenter.org/event/maple-madness-interpretive-tours-march-15-2025/
LOCATION:Dahlem\, Jackson’s Nature Place\, 7117 S. Jackson Rd.\, Jackson\, MI\, 49201\, United States
CATEGORIES:Education,Event-Festival
ATTACH;FMTTYPE=image/jpeg:https://www.dahlemcenter.org/wp-content/uploads/2024/12/Maple-Madness-15-March-2025.jpg
END:VEVENT
END:VCALENDAR