BEGIN:VCALENDAR
VERSION:2.0
PRODID:-//Dahlem - ECPv6.15.20//NONSGML v1.0//EN
CALSCALE:GREGORIAN
METHOD:PUBLISH
X-WR-CALNAME:Dahlem
X-ORIGINAL-URL:https://www.dahlemcenter.org
X-WR-CALDESC:Events for Dahlem
REFRESH-INTERVAL;VALUE=DURATION:PT1H
X-Robots-Tag:noindex
X-PUBLISHED-TTL:PT1H
BEGIN:VTIMEZONE
TZID:America/Detroit
BEGIN:DAYLIGHT
TZOFFSETFROM:-0500
TZOFFSETTO:-0400
TZNAME:EDT
DTSTART:20240310T070000
END:DAYLIGHT
BEGIN:STANDARD
TZOFFSETFROM:-0400
TZOFFSETTO:-0500
TZNAME:EST
DTSTART:20241103T060000
END:STANDARD
BEGIN:DAYLIGHT
TZOFFSETFROM:-0500
TZOFFSETTO:-0400
TZNAME:EDT
DTSTART:20250309T070000
END:DAYLIGHT
BEGIN:STANDARD
TZOFFSETFROM:-0400
TZOFFSETTO:-0500
TZNAME:EST
DTSTART:20251102T060000
END:STANDARD
BEGIN:DAYLIGHT
TZOFFSETFROM:-0500
TZOFFSETTO:-0400
TZNAME:EDT
DTSTART:20260308T070000
END:DAYLIGHT
BEGIN:STANDARD
TZOFFSETFROM:-0400
TZOFFSETTO:-0500
TZNAME:EST
DTSTART:20261101T060000
END:STANDARD
END:VTIMEZONE
BEGIN:VEVENT
DTSTART;TZID=America/Detroit:20250427T130000
DTEND;TZID=America/Detroit:20250427T160000
DTSTAMP:20260421T113657
CREATED:20250217T172838Z
LAST-MODIFIED:20250217T172838Z
UID:12383-1745758800-1745769600@www.dahlemcenter.org
SUMMARY:Earth Day Celebration 2025
DESCRIPTION:Earth Day Celebration is Sunday\, April 27th from 1-4 pm\, to promote environmental protection\, encouraging people to keep a clean\, healthy planet. Once again\, Jackson County Conservation District (JCCD) is organizing a fun and educational afternoon to celebrate Earth Day 2025. \nCome join us for JCCD’s Earth Day Celebration in the Park from 1-4 pm at Sparks Foundation County Park\, by the urban fishing pond. \nLocal vendors will be on hand with kid-friendly activities to teach about the importance of Earth Day and conservation of our natural resources. \nThere will be free tree seedlings and plants\, live animals\, live music\, face painting\, kayaking (weather pending)\, and activities for all.  A great day for family-fun! \nFree event\, open to the public. Additional Earth Day details available here. \n 
URL:https://www.dahlemcenter.org/event/earth-day-celebration-2025/
CATEGORIES:Education,Event-Festival
ATTACH;FMTTYPE=image/jpeg:https://www.dahlemcenter.org/wp-content/uploads/2025/02/Earth-Day-Celebration_27-April-2025.jpg
END:VEVENT
END:VCALENDAR