BEGIN:VCALENDAR
VERSION:2.0
PRODID:-//Dahlem - ECPv6.15.20//NONSGML v1.0//EN
CALSCALE:GREGORIAN
METHOD:PUBLISH
X-WR-CALNAME:Dahlem
X-ORIGINAL-URL:https://www.dahlemcenter.org
X-WR-CALDESC:Events for Dahlem
REFRESH-INTERVAL;VALUE=DURATION:PT1H
X-Robots-Tag:noindex
X-PUBLISHED-TTL:PT1H
BEGIN:VTIMEZONE
TZID:America/Detroit
BEGIN:DAYLIGHT
TZOFFSETFROM:-0500
TZOFFSETTO:-0400
TZNAME:EDT
DTSTART:20240310T070000
END:DAYLIGHT
BEGIN:STANDARD
TZOFFSETFROM:-0400
TZOFFSETTO:-0500
TZNAME:EST
DTSTART:20241103T060000
END:STANDARD
BEGIN:DAYLIGHT
TZOFFSETFROM:-0500
TZOFFSETTO:-0400
TZNAME:EDT
DTSTART:20250309T070000
END:DAYLIGHT
BEGIN:STANDARD
TZOFFSETFROM:-0400
TZOFFSETTO:-0500
TZNAME:EST
DTSTART:20251102T060000
END:STANDARD
BEGIN:DAYLIGHT
TZOFFSETFROM:-0500
TZOFFSETTO:-0400
TZNAME:EDT
DTSTART:20260308T070000
END:DAYLIGHT
BEGIN:STANDARD
TZOFFSETFROM:-0400
TZOFFSETTO:-0500
TZNAME:EST
DTSTART:20261101T060000
END:STANDARD
END:VTIMEZONE
BEGIN:VEVENT
DTSTART;TZID=America/Detroit:20250809T090000
DTEND;TZID=America/Detroit:20250809T150000
DTSTAMP:20260421T045744
CREATED:20250418T163901Z
LAST-MODIFIED:20250805T155741Z
UID:12565-1754730000-1754751600@www.dahlemcenter.org
SUMMARY:Birds\, Blooms & Butterflies Festival 2025
DESCRIPTION:Birds\, Blooms & Butterflies Festival \nSaturday\, August 9\, 2025 9:00 am – 3:00 pm\nThis is a FREE community event thanks to the generous support of our sponsors! \nThe Dahlem Conservancy is excited to announce the 17th Annual Birds\, Blooms\, and Butterflies Festival on Saturday\, August 9\, 2025.  Environmental education organizations\, presenters\, and volunteers involvement will help strengthen our community’s appreciation for the natural world. Please join us\, and many other organizations\, for this fantastic family-friendly event! \nThe BBB Festival will include a wide variety of outdoor learning opportunities and activities for all ages. We are planning to offer a live birds program\, Monarch & Zebra Swallowtail butterflies and caterpillars exhibit\, environmental education programs (birds\, blooms\, butterflies\, honeybees and pollinators\, etc.)\, nature walks\, native plants and bird seed sales\, children’s crafts\, live music\, food vendors\, and more. We’re looking forward to seeing you at this summer’s BBB Festival! \n  \nPresentations Schedule \n\n\n\n\n\n\n 10:00-10:45 — Benefits of protecting bird and pollinator habitats presented by Legacy Land Conservancy\nDutcher Classroom\n\n\n\n\n 11:00-12:00 — Live Birds of Prey presented by Michigan Avian Experience\n                               Come see the American Bald Eagle\, owl\, and hawk!!\nDutcher Classroom\n\n\n\n\n 12:30-1:30 — musical performance by the Jacktown Ukes\nGathering Patio\n\n\n\n\n\n 1:45-2:30 —  \n\n\n\n\n\n\nFood Trucks —  FFF Food Truck   and On The Roll \nWelcome Tent – pick up a schedule and map  \nVisit the following booths and vendors; \nBee Quiet Honey – selling products and/or giving away product samples\nDahlem’s Kids Activity Station\nGirl Scouts Heart of Michigan – Girl Scout cookies and more\nJackson Audubon Society – live caterpillars and butterflies exhibit\nJackson County Conservation District\nJackson County Master Gardeners – kids craft\, Q/A\nJackson School of the Arts\nKids N Stuff Children’s Museum – “A-MAZE-D” exhibit and activities\nKiwanis Club of Jackson\nLegacy Land Conservancy \nMDHHS-Environmental Health Bureau\nMichigan Bluebird Society\nMichigan DNR Wildlife Division\nNature Discovery – LIVE ANIMALS booth\nThe Perennial Connection LLC – plants for sale\nTie Dyes by Jen – tie dyed clothing\, housewares\, and jewelry\nUpper Grand River Watershed Alliance\nSponsor Table – pick up information from our sponsors \n\n\n>> VOLUNTEER OPPORTUNITIES << – We need your help!  Please complete the Volunteer Sign Up Form and we will contact you soon to discuss and confirm your interest and availability. Thank you so much for your support and talents.  We look forward to having you join us for the festival.  Volunteers are needed to set up tents\, tables/chairs\, welcome tent\, help where needed\, exhibit room host\, parking lot attendants\, take down at the end of the day\, and etc. \n  \n\n\nThank you for your generosity!  This event is proudly presented by\n\n    \nThank you for your generosity Event Sponsors\n     \nBilly White Roofing LLC\, Community Choice Credit Union\, Emmons Service Inc.\, Jackson College\, Jackson Glass Works Inc.\, Michigan DNR Wildlife Division\nSponsorship levels are available!  Please contact Kelly Lagow\, Development Specialist for details.\n\n\n.\nBooth space \nIs your business or organization interested in joining the festivities? Registration closes August 5th.\nThank you for your interest to participate!
URL:https://www.dahlemcenter.org/event/birds-blooms-butterflies-festival-2025/
CATEGORIES:Education,Event-Festival
ATTACH;FMTTYPE=image/jpeg:https://www.dahlemcenter.org/wp-content/uploads/2025/04/17th-Annual-Birds-Blooms-Butterflies-Festival-Social-Media-4.jpg
END:VEVENT
END:VCALENDAR