BEGIN:VCALENDAR
VERSION:2.0
PRODID:-//Dahlem - ECPv6.15.20//NONSGML v1.0//EN
CALSCALE:GREGORIAN
METHOD:PUBLISH
X-WR-CALNAME:Dahlem
X-ORIGINAL-URL:https://www.dahlemcenter.org
X-WR-CALDESC:Events for Dahlem
REFRESH-INTERVAL;VALUE=DURATION:PT1H
X-Robots-Tag:noindex
X-PUBLISHED-TTL:PT1H
BEGIN:VTIMEZONE
TZID:America/Detroit
BEGIN:DAYLIGHT
TZOFFSETFROM:-0500
TZOFFSETTO:-0400
TZNAME:EDT
DTSTART:20200308T070000
END:DAYLIGHT
BEGIN:STANDARD
TZOFFSETFROM:-0400
TZOFFSETTO:-0500
TZNAME:EST
DTSTART:20201101T060000
END:STANDARD
BEGIN:DAYLIGHT
TZOFFSETFROM:-0500
TZOFFSETTO:-0400
TZNAME:EDT
DTSTART:20210314T070000
END:DAYLIGHT
BEGIN:STANDARD
TZOFFSETFROM:-0400
TZOFFSETTO:-0500
TZNAME:EST
DTSTART:20211107T060000
END:STANDARD
BEGIN:DAYLIGHT
TZOFFSETFROM:-0500
TZOFFSETTO:-0400
TZNAME:EDT
DTSTART:20220313T070000
END:DAYLIGHT
BEGIN:STANDARD
TZOFFSETFROM:-0400
TZOFFSETTO:-0500
TZNAME:EST
DTSTART:20221106T060000
END:STANDARD
END:VTIMEZONE
BEGIN:VEVENT
DTSTART;VALUE=DATE:20210901
DTEND;VALUE=DATE:20211102
DTSTAMP:20260424T183746
CREATED:20200928T214114Z
LAST-MODIFIED:20210914T023211Z
UID:8833-1630454400-1635811199@www.dahlemcenter.org
SUMMARY:Poinsettia Pre-Order Sale
DESCRIPTION:Pre-Order Your Holiday Poinsettia Plants Today!\nOrder your beautiful poinsettia plants between September 1\, 2021 to November 1\, 2021.   Classic Poinsettias are $14 each\, color choices are Red\, Pink\, and Cream.  Painted Poinsettias are $16 each\, color choices are Purple\, Chameleon\, and Blue.  Poinsettias are coming from Raker Roberta’s Young Plants in Litchfield. \nPick up is December 2 and 3\, 2021 between 9:00 am to 4:00 pm \nFeel free to contact the office if you have any questions.  Office phone 517-782-3453 ext. 0 Tuesday through Friday 9:00 am to 4:00 pm \n 
URL:https://www.dahlemcenter.org/event/poinsettia-pre-order-sale/
LOCATION:MI
CATEGORIES:Fundraiser
ATTACH;FMTTYPE=image/jpeg:https://www.dahlemcenter.org/wp-content/uploads/2020/09/pointsettias.jpg
END:VEVENT
END:VCALENDAR