BEGIN:VCALENDAR
VERSION:2.0
PRODID:-//Dahlem - ECPv6.15.20//NONSGML v1.0//EN
CALSCALE:GREGORIAN
METHOD:PUBLISH
X-WR-CALNAME:Dahlem
X-ORIGINAL-URL:https://www.dahlemcenter.org
X-WR-CALDESC:Events for Dahlem
REFRESH-INTERVAL;VALUE=DURATION:PT1H
X-Robots-Tag:noindex
X-PUBLISHED-TTL:PT1H
BEGIN:VTIMEZONE
TZID:America/Detroit
BEGIN:DAYLIGHT
TZOFFSETFROM:-0500
TZOFFSETTO:-0400
TZNAME:EDT
DTSTART:20210314T070000
END:DAYLIGHT
BEGIN:STANDARD
TZOFFSETFROM:-0400
TZOFFSETTO:-0500
TZNAME:EST
DTSTART:20211107T060000
END:STANDARD
BEGIN:DAYLIGHT
TZOFFSETFROM:-0500
TZOFFSETTO:-0400
TZNAME:EDT
DTSTART:20220313T070000
END:DAYLIGHT
BEGIN:STANDARD
TZOFFSETFROM:-0400
TZOFFSETTO:-0500
TZNAME:EST
DTSTART:20221106T060000
END:STANDARD
BEGIN:DAYLIGHT
TZOFFSETFROM:-0500
TZOFFSETTO:-0400
TZNAME:EDT
DTSTART:20230312T070000
END:DAYLIGHT
BEGIN:STANDARD
TZOFFSETFROM:-0400
TZOFFSETTO:-0500
TZNAME:EST
DTSTART:20231105T060000
END:STANDARD
END:VTIMEZONE
BEGIN:VEVENT
DTSTART;VALUE=DATE:20220928
DTEND;VALUE=DATE:20221102
DTSTAMP:20260424T025247
CREATED:20220928T132305Z
LAST-MODIFIED:20220928T190921Z
UID:9974-1664323200-1667347199@www.dahlemcenter.org
SUMMARY:Poinsettia Pre-Order
DESCRIPTION:Pre-Order Your Holiday Poinsettia Plants Today!\nOrder your beautiful poinsettia plants by November 1\, 2022. Classic Poinsettias are $14.50 each with color choices of Red\, Pink\, and Cream.  Painted Poinsettias are $16 each with color choices of Purple\, Chameleon\, and Blue.  Poinsettias are coming from Raker Roberta’s Young Plants in Litchfield. \nPick up is December 2\, 2022 Friday between 9:00 am to 4:00 pm and December 3 Saturday between 9:00 am-12:00 noon. \nFeel free to contact the office if you have any questions. Office phone 517-782-3453 ext. 0 Tuesday through Friday 9:00 am to 4:00 pm \n  \n \n  \nOrder Now
URL:https://www.dahlemcenter.org/event/poinsettia-pre-order/
LOCATION:Dahlem\, Jackson’s Nature Place\, 7117 S. Jackson Rd.\, Jackson\, MI\, 49201\, United States
CATEGORIES:Fundraiser
ATTACH;FMTTYPE=image/jpeg:https://www.dahlemcenter.org/wp-content/uploads/2020/09/pointsettias.jpg
END:VEVENT
END:VCALENDAR