BEGIN:VCALENDAR
VERSION:2.0
PRODID:-//Dahlem - ECPv6.15.20//NONSGML v1.0//EN
CALSCALE:GREGORIAN
METHOD:PUBLISH
X-WR-CALNAME:Dahlem
X-ORIGINAL-URL:https://www.dahlemcenter.org
X-WR-CALDESC:Events for Dahlem
REFRESH-INTERVAL;VALUE=DURATION:PT1H
X-Robots-Tag:noindex
X-PUBLISHED-TTL:PT1H
BEGIN:VTIMEZONE
TZID:America/Detroit
BEGIN:DAYLIGHT
TZOFFSETFROM:-0500
TZOFFSETTO:-0400
TZNAME:EDT
DTSTART:20220313T070000
END:DAYLIGHT
BEGIN:STANDARD
TZOFFSETFROM:-0400
TZOFFSETTO:-0500
TZNAME:EST
DTSTART:20221106T060000
END:STANDARD
BEGIN:DAYLIGHT
TZOFFSETFROM:-0500
TZOFFSETTO:-0400
TZNAME:EDT
DTSTART:20230312T070000
END:DAYLIGHT
BEGIN:STANDARD
TZOFFSETFROM:-0400
TZOFFSETTO:-0500
TZNAME:EST
DTSTART:20231105T060000
END:STANDARD
BEGIN:DAYLIGHT
TZOFFSETFROM:-0500
TZOFFSETTO:-0400
TZNAME:EDT
DTSTART:20240310T070000
END:DAYLIGHT
BEGIN:STANDARD
TZOFFSETFROM:-0400
TZOFFSETTO:-0500
TZNAME:EST
DTSTART:20241103T060000
END:STANDARD
END:VTIMEZONE
BEGIN:VEVENT
DTSTART;TZID=America/Detroit:20230310T170000
DTEND;TZID=America/Detroit:20230310T190000
DTSTAMP:20260423T173411
CREATED:20230112T192107Z
LAST-MODIFIED:20230310T183859Z
UID:10235-1678467600-1678474800@www.dahlemcenter.org
SUMMARY:Chocolate Sensation 2023
DESCRIPTION:The 5th Annual Chocolate Sensation!\nWE’LL SEE YOU TONIGHT\, MARCH 10TH\, doors open at 5 pm.   \nOur premier Spring Benefit Event will be held at Weatherwax Hall at Jackson Symphony Orchestra on Friday\, March 10th\, 2023. Doors open at 5:00 pm. \nEnjoy outstanding hors d’oeuvres by Stoyanna’s Catering\, delicious delicacies provided by popular local vendors\, listen to live musical performance by flutist Brandon Marceal\, participate in a silent auction and raffles\, cash bar\, and socialize with fellow friends of Dahlem.  Reservations also include one free glass of beer or wine. \nThank you for your interest in Chocolate Sensation.  We’re looking forward to this special event! \n  \nTHANK YOU EVENT SPONSORS \n \n  \n  \n  \n  \n  \n  \n  \n  \n\n 
URL:https://www.dahlemcenter.org/event/chocolate-sensation-2023/
LOCATION:Jackson Symphony Orchestra\, 215 W Michigan Ave\, Jackson\, MI\, 49201
CATEGORIES:Fundraiser
ATTACH;FMTTYPE=image/jpeg:https://www.dahlemcenter.org/wp-content/uploads/2023/01/Chocolate-Sensation-2023-green-online-banner-1.jpg
END:VEVENT
END:VCALENDAR