BEGIN:VCALENDAR
VERSION:2.0
PRODID:-//Dahlem - ECPv6.15.20//NONSGML v1.0//EN
CALSCALE:GREGORIAN
METHOD:PUBLISH
X-ORIGINAL-URL:https://www.dahlemcenter.org
X-WR-CALDESC:Events for Dahlem
REFRESH-INTERVAL;VALUE=DURATION:PT1H
X-Robots-Tag:noindex
X-PUBLISHED-TTL:PT1H
BEGIN:VTIMEZONE
TZID:America/Detroit
BEGIN:DAYLIGHT
TZOFFSETFROM:-0500
TZOFFSETTO:-0400
TZNAME:EDT
DTSTART:20240310T070000
END:DAYLIGHT
BEGIN:STANDARD
TZOFFSETFROM:-0400
TZOFFSETTO:-0500
TZNAME:EST
DTSTART:20241103T060000
END:STANDARD
BEGIN:DAYLIGHT
TZOFFSETFROM:-0500
TZOFFSETTO:-0400
TZNAME:EDT
DTSTART:20250309T070000
END:DAYLIGHT
BEGIN:STANDARD
TZOFFSETFROM:-0400
TZOFFSETTO:-0500
TZNAME:EST
DTSTART:20251102T060000
END:STANDARD
BEGIN:DAYLIGHT
TZOFFSETFROM:-0500
TZOFFSETTO:-0400
TZNAME:EDT
DTSTART:20260308T070000
END:DAYLIGHT
BEGIN:STANDARD
TZOFFSETFROM:-0400
TZOFFSETTO:-0500
TZNAME:EST
DTSTART:20261101T060000
END:STANDARD
END:VTIMEZONE
BEGIN:VEVENT
DTSTART;TZID=America/Detroit:20250221T180000
DTEND;TZID=America/Detroit:20250221T200000
DTSTAMP:20260422T023444
CREATED:20241217T154253Z
LAST-MODIFIED:20250207T142939Z
UID:12090-1740160800-1740168000@www.dahlemcenter.org
SUMMARY:Chocolate Sensations 2025
DESCRIPTION:Step through the doors of the Cascades Manor and enter Dahlem’s Chocolate Sensations!\nYou’re invited to a whimsical night of magic and wonder.  Join us for our Wonka-themed evening of fun – all for a good cause! \n \nFeaturing the dazzling musical talents of Jackson’s own Marcus & Tiffany Shelton Music\, along with local chocolate delicacies from: ABC Bakery\, Five Forks Bakery\, For Goodness Cakes\, Hinkley Bakery\, Jackson Candy and Fudge Factory\, The Parlour of Jackson\, and Vito’s Espresso. \nWander through our silent auction\, where local artists’ masterpieces are open for bids. You will also find golden-ticket-worthy gift cards to local eateries and experiences\, and sweet treats from Gilberts Chocolate and Jackson Candy and Fudge Factory. \nMake your reservation today so you don’t miss out on all the fun! \n\nLive music\nSignature cocktails\nHors d’oeuvres\nCash bar\nLocal chocolates\nSilent auction\nRaffles\nPhoto booth\nGames\nand more!\n\nFriday\, February 21\, 2025 \n6 – 8 p.m. \nCascades Manor \n  \nThank you to our event sponsors! \n            \n    \nFor sponsorship opportunities please contact Kelly at 517-782-3453\, ext. 104 \n  \n \nReservations: \n$60 – Individual \n$110 – Two \n$440 – Table of Eight \n\n  \n 
URL:https://www.dahlemcenter.org/event/chocolate-sensations-2025/
LOCATION:MI
CATEGORIES:Fundraiser
ATTACH;FMTTYPE=image/jpeg:https://www.dahlemcenter.org/wp-content/uploads/2024/12/4x6-ChocolateSensations-Digital.jpg
END:VEVENT
END:VCALENDAR