BEGIN:VCALENDAR
VERSION:2.0
PRODID:-//Dahlem - ECPv6.15.20//NONSGML v1.0//EN
CALSCALE:GREGORIAN
METHOD:PUBLISH
X-WR-CALNAME:Dahlem
X-ORIGINAL-URL:https://www.dahlemcenter.org
X-WR-CALDESC:Events for Dahlem
REFRESH-INTERVAL;VALUE=DURATION:PT1H
X-Robots-Tag:noindex
X-PUBLISHED-TTL:PT1H
BEGIN:VTIMEZONE
TZID:America/Detroit
BEGIN:DAYLIGHT
TZOFFSETFROM:-0500
TZOFFSETTO:-0400
TZNAME:EDT
DTSTART:20170312T070000
END:DAYLIGHT
BEGIN:STANDARD
TZOFFSETFROM:-0400
TZOFFSETTO:-0500
TZNAME:EST
DTSTART:20171105T060000
END:STANDARD
BEGIN:DAYLIGHT
TZOFFSETFROM:-0500
TZOFFSETTO:-0400
TZNAME:EDT
DTSTART:20180311T070000
END:DAYLIGHT
BEGIN:STANDARD
TZOFFSETFROM:-0400
TZOFFSETTO:-0500
TZNAME:EST
DTSTART:20181104T060000
END:STANDARD
BEGIN:DAYLIGHT
TZOFFSETFROM:-0500
TZOFFSETTO:-0400
TZNAME:EDT
DTSTART:20190310T070000
END:DAYLIGHT
BEGIN:STANDARD
TZOFFSETFROM:-0400
TZOFFSETTO:-0500
TZNAME:EST
DTSTART:20191103T060000
END:STANDARD
END:VTIMEZONE
BEGIN:VEVENT
DTSTART;TZID=America/Detroit:20181011T120000
DTEND;TZID=America/Detroit:20181011T130000
DTSTAMP:20260421T180321
CREATED:20181010T185216Z
LAST-MODIFIED:20190131T171452Z
UID:7235-1539259200-1539262800@www.dahlemcenter.org
SUMMARY:Benefit Luncheon
DESCRIPTION:Location: Commonwealth Commerce Center\nDate: October 11\, 2018\nTime: 12:00 PM – 1:00 PM \nThis annual benefit event is crucial to Dahlem’s success because it raises much-needed unrestricted dollars. This means that this money is used to pay our utilities and salaries\, purchase supplies\, and repair infrastructure. Unrestricted funds are the most difficult to raise because foundations\, corporations and businesses focus on projects\, events or specific programs. Therefore\, for our daily operations\, this event is imperative to the financial health of Dahlem. \nWhat can you expect at this event? This is when Dahlem showcases what we’ve accomplished over the last year\, and share what we have planned for the year ahead. We tell our story and express our heartfelt passion for environmental education and outdoor experiences. \nPlease take a moment to consider being a Table Captain and filling a table with eight guests. If eight is too many\, you are welcome to invite even one or two friends to come along – we have room for everyone! Your time and your guests’ will help make Dahlem stronger and continue its mission of providing environmental education and outdoor experiences to the people of south central Michigan. Please contact us for more information about being a table captain or an event sponsor.
URL:https://www.dahlemcenter.org/event/benefit-luncheon/
LOCATION:Dahlem\, Jackson’s Nature Place\, 7117 S. Jackson Rd.\, Jackson\, MI\, 49201\, United States
CATEGORIES:Fundraiser
ATTACH;FMTTYPE=image/jpeg:https://www.dahlemcenter.org/wp-content/uploads/2017/01/dahlem-center-logo-tagline.jpg
END:VEVENT
END:VCALENDAR