BEGIN:VCALENDAR
VERSION:2.0
PRODID:-//Dahlem - ECPv6.15.20//NONSGML v1.0//EN
CALSCALE:GREGORIAN
METHOD:PUBLISH
X-ORIGINAL-URL:https://www.dahlemcenter.org
X-WR-CALDESC:Events for Dahlem
REFRESH-INTERVAL;VALUE=DURATION:PT1H
X-Robots-Tag:noindex
X-PUBLISHED-TTL:PT1H
BEGIN:VTIMEZONE
TZID:America/Detroit
BEGIN:DAYLIGHT
TZOFFSETFROM:-0500
TZOFFSETTO:-0400
TZNAME:EDT
DTSTART:20180311T070000
END:DAYLIGHT
BEGIN:STANDARD
TZOFFSETFROM:-0400
TZOFFSETTO:-0500
TZNAME:EST
DTSTART:20181104T060000
END:STANDARD
BEGIN:DAYLIGHT
TZOFFSETFROM:-0500
TZOFFSETTO:-0400
TZNAME:EDT
DTSTART:20190310T070000
END:DAYLIGHT
BEGIN:STANDARD
TZOFFSETFROM:-0400
TZOFFSETTO:-0500
TZNAME:EST
DTSTART:20191103T060000
END:STANDARD
BEGIN:DAYLIGHT
TZOFFSETFROM:-0500
TZOFFSETTO:-0400
TZNAME:EDT
DTSTART:20200308T070000
END:DAYLIGHT
BEGIN:STANDARD
TZOFFSETFROM:-0400
TZOFFSETTO:-0500
TZNAME:EST
DTSTART:20201101T060000
END:STANDARD
END:VTIMEZONE
BEGIN:VEVENT
DTSTART;TZID=America/Detroit:20190316T100000
DTEND;TZID=America/Detroit:20190316T113000
DTSTAMP:20260423T074342
CREATED:20181213T210800Z
LAST-MODIFIED:20190131T171319Z
UID:7390-1552730400-1552735800@www.dahlemcenter.org
SUMMARY:Maple Sugaring Program for Jackson Co. 4-H Club
DESCRIPTION:Maple Sugaring Program\nJackson County 4-H Club members must register through Jackson County Extension Office 517-768-2040. \nOur maple sugaring program is designed to allow students a first hand experience in the delicious tradition of maple sugaring.  Students will learn basic concepts of maple sugaring\, investigate tree characteristics\, winter tree ID\, how sap flows\, taste sap from a maple tree\, and see the maple syrup-making process itself at our historic sugar shack. The program is held outdoors so dress for the weather!
URL:https://www.dahlemcenter.org/event/maple-sugaring-program-for-jackson-co-4-h-club/
LOCATION:Dahlem\, Jackson’s Nature Place\, 7117 S. Jackson Rd.\, Jackson\, MI\, 49201\, United States
CATEGORIES:Education
ATTACH;FMTTYPE=image/jpeg:https://www.dahlemcenter.org/wp-content/uploads/2018/12/20180317_152302.jpg
END:VEVENT
BEGIN:VEVENT
DTSTART;TZID=America/Detroit:20190316T120000
DTEND;TZID=America/Detroit:20190316T153000
DTSTAMP:20260423T074342
CREATED:20181205T174052Z
LAST-MODIFIED:20190115T184102Z
UID:7314-1552737600-1552750200@www.dahlemcenter.org
SUMMARY:Maple Madness Interpretive Tours
DESCRIPTION:Maple Madness Interpretive Tours — Dahlem’s maple sugaring operation is small but an ideal site to demonstrate the science of collecting maple tree sap and making our favorite tasty maple syrup topping. \nSign up for an interpretive guided 1 1/2 hour tour at 12:00 pm or 2:00 pm to learn about the history of sugaring\, and learn through hands-on STEM activities; how to identify the right trees to tap\, how tapping is done\, how trees ‘work’\, and finally\, see the sap being boiled down at the sugar shack\, and where everyone gets to taste the sweet golden nectar of the sugar maple. \nFee: $6/Dahlem member; $8/non-member. Advanced registration required at www.dahlemcenter.org or call the office (517-782-3453) to pay for your spot. Registration deadline is Friday\, March 15 at 12:00 pm. \nThe Dahlem Conservancy\, 7117 S. Jackson Rd.\, Jackson 49201 just 15 minutes from downtown Jackson. \n 
URL:https://www.dahlemcenter.org/event/maple-sugaring-interpretive-tours/
LOCATION:Dahlem\, Jackson’s Nature Place\, 7117 S. Jackson Rd.\, Jackson\, MI\, 49201\, United States
CATEGORIES:Education
ATTACH;FMTTYPE=image/jpeg:https://www.dahlemcenter.org/wp-content/uploads/2018/12/IMG_7861-CBenham.jpg
END:VEVENT
END:VCALENDAR