BEGIN:VCALENDAR
VERSION:2.0
PRODID:-//Dahlem - ECPv6.15.20//NONSGML v1.0//EN
CALSCALE:GREGORIAN
METHOD:PUBLISH
X-ORIGINAL-URL:https://www.dahlemcenter.org
X-WR-CALDESC:Events for Dahlem
REFRESH-INTERVAL;VALUE=DURATION:PT1H
X-Robots-Tag:noindex
X-PUBLISHED-TTL:PT1H
BEGIN:VTIMEZONE
TZID:America/Detroit
BEGIN:DAYLIGHT
TZOFFSETFROM:-0500
TZOFFSETTO:-0400
TZNAME:EDT
DTSTART:20180311T070000
END:DAYLIGHT
BEGIN:STANDARD
TZOFFSETFROM:-0400
TZOFFSETTO:-0500
TZNAME:EST
DTSTART:20181104T060000
END:STANDARD
BEGIN:DAYLIGHT
TZOFFSETFROM:-0500
TZOFFSETTO:-0400
TZNAME:EDT
DTSTART:20190310T070000
END:DAYLIGHT
BEGIN:STANDARD
TZOFFSETFROM:-0400
TZOFFSETTO:-0500
TZNAME:EST
DTSTART:20191103T060000
END:STANDARD
BEGIN:DAYLIGHT
TZOFFSETFROM:-0500
TZOFFSETTO:-0400
TZNAME:EDT
DTSTART:20200308T070000
END:DAYLIGHT
BEGIN:STANDARD
TZOFFSETFROM:-0400
TZOFFSETTO:-0500
TZNAME:EST
DTSTART:20201101T060000
END:STANDARD
END:VTIMEZONE
BEGIN:VEVENT
DTSTART;TZID=America/Detroit:20190405T083000
DTEND;TZID=America/Detroit:20190405T120000
DTSTAMP:20260423T060847
CREATED:20190307T195906Z
LAST-MODIFIED:20190315T204210Z
UID:7642-1554453000-1554465600@www.dahlemcenter.org
SUMMARY:Volunteers needed for Spring School Programs
DESCRIPTION:Volunteers needed for Spring School Programs\n\n\nVolunteer Trail Leaders (new & returning) interested to lead Spring school field trips are invited to attend this informative half day training session on Friday\, April 5\, 8:30 am to noon at The Dahlem Center\, 7117 S. Jackson Rd.\, Jackson MI.  Volunteering for school programs is a highly rewarding experience not to be missed.  Come join the fun! \nThe five programs we will review include: Signs of Spring (preschool & kindergarten)\, Who Lives There? (kindergarten)\, Spring Birds (grades 1-3)\, Frogs & Toads (grades 1-4) and Aquatic Studies (grades 3-8). \nIf you’re interested\, please RSVP to naturalist educator Carrie Benham to reserve your seat by April 3\, 2019 (4:00 pm).  Please call 517-782-3453 or email cbenham@dahlemcenter.org.  Thank you! \nThis is a great opportunity for retirees\, and any adults and college students interested to work with children and have a love for nature are welcome to become volunteer trail leaders.  Training will take place both in/outdoors.  Please dress for the weather.
URL:https://www.dahlemcenter.org/event/volunteers-needed-for-spring-school-programs/
LOCATION:Dahlem\, Jackson’s Nature Place\, 7117 S. Jackson Rd.\, Jackson\, MI\, 49201\, United States
CATEGORIES:Education
ATTACH;FMTTYPE=image/jpeg:https://www.dahlemcenter.org/wp-content/uploads/2018/12/IMG_7793.jpg
END:VEVENT
BEGIN:VEVENT
DTSTART;TZID=America/Detroit:20190427T130000
DTEND;TZID=America/Detroit:20190427T160000
DTSTAMP:20260423T060847
CREATED:20190103T215318Z
LAST-MODIFIED:20190131T171253Z
UID:7473-1556370000-1556380800@www.dahlemcenter.org
SUMMARY:Earth Day Celebration
DESCRIPTION:With the arrival of Spring\, the Jackson County Conservation District is excited to announce the 13th Annual “Earth Day Celebration in the Park” event which will take place on Saturday April 27th from 1-4pm at Cascades Park. This is a free family event for all ages that will include hands on activities\, crafts\, classroom critters\, and live music. Come join Dahlem and many other non-profit organizations to learn more about how you can help take care of planet earth. Thank you to sponsors and the Jackson community for helping make this event a big success in previous years\, and we hope to see you there! \nFollow the Jackson Conservation District on Facebook https://www.facebook.com/jxncd/ for the most up to date information\, also check  website http://www.jacksoncd.org/
URL:https://www.dahlemcenter.org/event/earth-day-celebration/
CATEGORIES:Event-Festival
ATTACH;FMTTYPE=image/jpeg:https://www.dahlemcenter.org/wp-content/uploads/2019/01/earth-day-image.jpg
END:VEVENT
END:VCALENDAR