BEGIN:VCALENDAR
VERSION:2.0
PRODID:-//Dahlem - ECPv6.15.20//NONSGML v1.0//EN
CALSCALE:GREGORIAN
METHOD:PUBLISH
X-WR-CALNAME:Dahlem
X-ORIGINAL-URL:https://www.dahlemcenter.org
X-WR-CALDESC:Events for Dahlem
REFRESH-INTERVAL;VALUE=DURATION:PT1H
X-Robots-Tag:noindex
X-PUBLISHED-TTL:PT1H
BEGIN:VTIMEZONE
TZID:America/Detroit
BEGIN:DAYLIGHT
TZOFFSETFROM:-0500
TZOFFSETTO:-0400
TZNAME:EDT
DTSTART:20180311T070000
END:DAYLIGHT
BEGIN:STANDARD
TZOFFSETFROM:-0400
TZOFFSETTO:-0500
TZNAME:EST
DTSTART:20181104T060000
END:STANDARD
BEGIN:DAYLIGHT
TZOFFSETFROM:-0500
TZOFFSETTO:-0400
TZNAME:EDT
DTSTART:20190310T070000
END:DAYLIGHT
BEGIN:STANDARD
TZOFFSETFROM:-0400
TZOFFSETTO:-0500
TZNAME:EST
DTSTART:20191103T060000
END:STANDARD
BEGIN:DAYLIGHT
TZOFFSETFROM:-0500
TZOFFSETTO:-0400
TZNAME:EDT
DTSTART:20200308T070000
END:DAYLIGHT
BEGIN:STANDARD
TZOFFSETFROM:-0400
TZOFFSETTO:-0500
TZNAME:EST
DTSTART:20201101T060000
END:STANDARD
END:VTIMEZONE
BEGIN:VEVENT
DTSTART;TZID=America/Detroit:20190914T090000
DTEND;TZID=America/Detroit:20190914T130000
DTSTAMP:20260422T211357
CREATED:20190830T192343Z
LAST-MODIFIED:20190830T192445Z
UID:8023-1568451600-1568466000@www.dahlemcenter.org
SUMMARY:Annual Fall Work Bee
DESCRIPTION:What is a Work Bee?\nWe consider it to be a day that we are literally as busy as honeybees and work\, work\, work! It is the perfect time of the year to address any maintenance that is necessary after summer.\nThis year’s Annual Fall Work Bee is on Saturday September 14th from 9:00 AM – 1:00 PM.\nVolunteers please arrive at 9:00 AM. After the work is done we will have a complimentary hot dog cook out! The staff will provide grilled hot dogs\, snacks and refreshments for all volunteers participating that day!\n** Please complete the form below so we know how many volunteers to anticipate and provide lunch for **\n\nWhat will I be doing at the Work Bee?\nAssignments are given out at the start of the day–9:00 AM. If you have an interest in something particular\, let us know! Our goal is to utilize a volunteer’s individual strengths as much as possible. Here are some areas we plan to tackle: \n\nWorking with the staff to declutter offices and the Dutcher Room storage area\nSplitting wood for the sugar shack\nSprucing up the trails\, gardens\, and paved walkways\nWeeding around the buildings and gardens\nWash windows\, bird feeders\, and outdoor signage\nCleaning foliage and debris from ponds\nPlace wood chips on the Natural Playscape and other areas of need\nApply sealant to picnic tables and sand/paint wood benches\nCleaning and organizing the McLaughlin pole barn\nDust Exhibit Room & Gift Shop\nCleaning the turtle tank\nCleaning and sanitizing within the Little Acorn Classroom\n\nWe welcome you to bring your own personal equipment such as rakes\, work gloves\, garden shears\, and other tools that would help assist the process. Remember to dress for the elements! \nFeel free to contact the office at 517-782-3453 should you have questions or concerns.  Thank you!\n 
URL:https://www.dahlemcenter.org/event/annual-fall-work-bee/
LOCATION:Dahlem\, Jackson’s Nature Place\, 7117 S. Jackson Rd.\, Jackson\, MI\, 49201\, United States
ATTACH;FMTTYPE=image/jpeg:https://www.dahlemcenter.org/wp-content/uploads/2019/08/Work-Bee.jpg
END:VEVENT
END:VCALENDAR