BEGIN:VCALENDAR
VERSION:2.0
PRODID:-//Dahlem - ECPv6.15.20//NONSGML v1.0//EN
CALSCALE:GREGORIAN
METHOD:PUBLISH
X-WR-CALNAME:Dahlem
X-ORIGINAL-URL:https://www.dahlemcenter.org
X-WR-CALDESC:Events for Dahlem
REFRESH-INTERVAL;VALUE=DURATION:PT1H
X-Robots-Tag:noindex
X-PUBLISHED-TTL:PT1H
BEGIN:VTIMEZONE
TZID:America/Detroit
BEGIN:DAYLIGHT
TZOFFSETFROM:-0500
TZOFFSETTO:-0400
TZNAME:EDT
DTSTART:20180311T070000
END:DAYLIGHT
BEGIN:STANDARD
TZOFFSETFROM:-0400
TZOFFSETTO:-0500
TZNAME:EST
DTSTART:20181104T060000
END:STANDARD
BEGIN:DAYLIGHT
TZOFFSETFROM:-0500
TZOFFSETTO:-0400
TZNAME:EDT
DTSTART:20190310T070000
END:DAYLIGHT
BEGIN:STANDARD
TZOFFSETFROM:-0400
TZOFFSETTO:-0500
TZNAME:EST
DTSTART:20191103T060000
END:STANDARD
BEGIN:DAYLIGHT
TZOFFSETFROM:-0500
TZOFFSETTO:-0400
TZNAME:EDT
DTSTART:20200308T070000
END:DAYLIGHT
BEGIN:STANDARD
TZOFFSETFROM:-0400
TZOFFSETTO:-0500
TZNAME:EST
DTSTART:20201101T060000
END:STANDARD
END:VTIMEZONE
BEGIN:VEVENT
DTSTART;TZID=America/Detroit:20191020T130000
DTEND;TZID=America/Detroit:20191020T150000
DTSTAMP:20260422T192224
CREATED:20190625T155757Z
LAST-MODIFIED:20191006T132143Z
UID:7905-1571576400-1571583600@www.dahlemcenter.org
SUMMARY:Dahlem for Dogs!
DESCRIPTION:The Dahlem Center and Jackson County Animal Shelter are teaming up again for a special adoption event! Join us as the animal shelter brings furry friends\, ready for adoption\, out to our Dog Friendly Butterfly Trail! We encourage everyone to bring out their dogs\, adopt a dog\, or just come to walk the shelter dogs! \nThe Butterfly Trail can be accessed from the Dahlem Ecology Farm 1427 Wickwire Rd. – Look for the Big White Barn and Community Gardens! \nNot ready to adopt? That’s ok! Come on out anyway\, and help us give all these deserving dogs a walk!
URL:https://www.dahlemcenter.org/event/dahlem-for-dogs/
LOCATION:Dahlem Ecology Farm\, 1427 Wickwire Rd\, Jackson\, MI\, 49201\, United States
ATTACH;FMTTYPE=image/jpeg:https://www.dahlemcenter.org/wp-content/uploads/2019/06/67237010_10157474461083343_8523693440242810880_n.jpg
ORGANIZER;CN="Lyndsey Adams%2C Development Coordinator":MAILTO:ladams@dahlemcenter.org
END:VEVENT
BEGIN:VEVENT
DTSTART;TZID=America/Detroit:20191025T100000
DTEND;TZID=America/Detroit:20191025T150000
DTSTAMP:20260422T192224
CREATED:20181010T185102Z
LAST-MODIFIED:20190613T135537Z
UID:7233-1571997600-1572015600@www.dahlemcenter.org
SUMMARY:Pumpkin Carving
DESCRIPTION:Carved pumpkins are for our popular Goblin Walks Event \nWho: Volunteers\nDate: October 25\, 2019\nTime: 10:00 AM – 3:00 PM come anytime for any length of time you have available to help.\nWhat to Bring: your carving tools and pumpkin scoop\nWhere: Dahlem’s Dutcher Classroom \nCome help us carve 300 to 400 beautiful pumpkins in preparation for Goblin Walks. Pumpkins are donated by Gee Farms\, and then volunteers use their tools and talents to gut and carve each pumpkin. These jack ‘o lanterns line the Goblin Walks route enchanting the forest trails. \nCall Dahlem at 517-782-3453 to let us know you are coming. It helps us plan and set up according to number of volunteers coming out to help us. We look forward to working with you!
URL:https://www.dahlemcenter.org/event/pumpkin-carving/
LOCATION:Dahlem\, Jackson’s Nature Place\, 7117 S. Jackson Rd.\, Jackson\, MI\, 49201\, United States
CATEGORIES:Event-Festival
ATTACH;FMTTYPE=image/jpeg:https://www.dahlemcenter.org/wp-content/uploads/2017/09/goblin-walks-dahlem-event.jpg
END:VEVENT
END:VCALENDAR