BEGIN:VCALENDAR
VERSION:2.0
PRODID:-//Dahlem - ECPv6.15.20//NONSGML v1.0//EN
CALSCALE:GREGORIAN
METHOD:PUBLISH
X-ORIGINAL-URL:https://www.dahlemcenter.org
X-WR-CALDESC:Events for Dahlem
REFRESH-INTERVAL;VALUE=DURATION:PT1H
X-Robots-Tag:noindex
X-PUBLISHED-TTL:PT1H
BEGIN:VTIMEZONE
TZID:America/Detroit
BEGIN:DAYLIGHT
TZOFFSETFROM:-0500
TZOFFSETTO:-0400
TZNAME:EDT
DTSTART:20190310T070000
END:DAYLIGHT
BEGIN:STANDARD
TZOFFSETFROM:-0400
TZOFFSETTO:-0500
TZNAME:EST
DTSTART:20191103T060000
END:STANDARD
BEGIN:DAYLIGHT
TZOFFSETFROM:-0500
TZOFFSETTO:-0400
TZNAME:EDT
DTSTART:20200308T070000
END:DAYLIGHT
BEGIN:STANDARD
TZOFFSETFROM:-0400
TZOFFSETTO:-0500
TZNAME:EST
DTSTART:20201101T060000
END:STANDARD
BEGIN:DAYLIGHT
TZOFFSETFROM:-0500
TZOFFSETTO:-0400
TZNAME:EDT
DTSTART:20210314T070000
END:DAYLIGHT
BEGIN:STANDARD
TZOFFSETFROM:-0400
TZOFFSETTO:-0500
TZNAME:EST
DTSTART:20211107T060000
END:STANDARD
END:VTIMEZONE
BEGIN:VEVENT
DTSTART;TZID=America/Detroit:20200103T093000
DTEND;TZID=America/Detroit:20200103T104500
DTSTAMP:20260422T141658
CREATED:20181213T202847Z
LAST-MODIFIED:20191218T182732Z
UID:7376-1578043800-1578048300@www.dahlemcenter.org
SUMMARY:Mighty Naturalist Program; Nature Painting and Textures Art Class
DESCRIPTION:Nature Painting and Textures Art Class is for ages 1-5 years old with a caregiver. \nProgram Description:  The way something feels is called texture.  Let’s look around to see what textures we can find in the natural world\, then we’ll  collect a variety of items to take back to the classroom to experiment and discover the fascinating unique impressions and designs with nature’s stampers. Nature art stimulates creativity\, imagination and brings joy. \nFee: $8 per child ($5 Dahlem member); free for adult & children under 1 year old.  Advanced Registration Required. Please register online at www.dahlemcenter.org/events or call 517-782-3453 to reserve your spot for you and your mighty naturalist(s). Payment due upon registration. Registered participants who did not attend program and/or give minimum 24 hour cancellation notice will not be refunded. \nShare your love of nature with your young child(ren). We will explore and play with nature while developing critical early childhood skills and growing self-confidence. The Mighty Naturalist Programs are geared toward children 5 years and younger with an adult caregiver to learn about animals\, winter survival\, birds\, tracks\, and more. Each program offers a different theme and activities to give you and your mighty naturalist many program opportunities. Invite your friends to sign up\, too. \nMighty Naturalist Schedule 2020\nJanuary 3; Nature Painting and Textures Art Class\nJanuary 10; Snow Much Fun\nJanuary 17; How Animals Survive in Winter Time\nJanuary 24; Our Feathered Friends\nJanuary 31; Winter Animal Tracks\nFebruary 7; Super Squirrely\nFebruary 14; Tree House – Who Lives There?\nApril 3; Life Under A Log \n  \n\n  \nRegister Online\n\n\n 
URL:https://www.dahlemcenter.org/event/mighty-naturalist-program-what-is-texture/
CATEGORIES:Education,Mighty Naturalist
ATTACH;FMTTYPE=image/jpeg:https://www.dahlemcenter.org/wp-content/uploads/2019/12/20180206_110406-small.jpg
END:VEVENT
BEGIN:VEVENT
DTSTART;TZID=America/Detroit:20200110T093000
DTEND;TZID=America/Detroit:20200110T104500
DTSTAMP:20260422T141658
CREATED:20191218T190320Z
LAST-MODIFIED:20191218T191129Z
UID:8297-1578648600-1578653100@www.dahlemcenter.org
SUMMARY:Mighty Naturalist Program; Snow Much Fun
DESCRIPTION:Snow Much Fun Program is for ages 1-5 years old with a caregiver. \nProgram Description:  We will read a fun winter-themed story\, go for an outdoor walk on the snow covered trail and look at snowflake designs\, blow bubbles to see if they freeze\, and make snow angels\, then we’ll head indoors to craft out own winter art at tables. \nFee: $8 per child ($5 Dahlem member); free for adult & children under 1 year old.  Advanced Registration Required. Please register online at www.dahlemcenter.org/events or call 517-782-3453 to reserve your spot for you and your mighty naturalist(s). Payment due upon registration. Registered participants who did not attend program and/or give minimum 24 hour cancellation notice will not be refunded. \nShare your love of nature with your young child(ren). We will explore and play with nature while developing critical early childhood skills and growing self-confidence. The Mighty Naturalist Programs are geared toward children 5 years and younger with an adult caregiver to learn about animals\, winter survival\, birds\, tracks\, and more. Each program offers a different theme and activities to give you and your mighty naturalist many program opportunities. Invite your friends to sign up\, too. \nMighty Naturalist Schedule 2020\nJanuary 3; Nature Painting and Textures Art Class\nJanuary 10; Snow Much Fun\nJanuary 17; How Animals Survive in Winter Time\nJanuary 24; Our Feathered Friends\nJanuary 31; Winter Animal Tracks\nFebruary 7; Super Squirrely\nFebruary 14; Tree House – Who Lives There?\nApril 3; Life Under A Log \n  \n\n  \nRegister Online\n\n\n 
URL:https://www.dahlemcenter.org/event/mighty-naturalist-program-snow-much-fun/
CATEGORIES:Education,Mighty Naturalist
ATTACH;FMTTYPE=image/jpeg:https://www.dahlemcenter.org/wp-content/uploads/2019/12/26195529_10156059047593343_2922068779507345597_n-1.jpg
END:VEVENT
BEGIN:VEVENT
DTSTART;TZID=America/Detroit:20200117T093000
DTEND;TZID=America/Detroit:20200117T104500
DTSTAMP:20260422T141658
CREATED:20181213T203126Z
LAST-MODIFIED:20200107T192359Z
UID:7379-1579253400-1579257900@www.dahlemcenter.org
SUMMARY:Mighty Naturalist Program; How Animals Survive in Winter Time
DESCRIPTION:How Animals Survive in Winter Time Program is for ages 1-5 years old with a caregiver. \nProgram Description:  What are some actions nature takes and why to survive winter?  We will explore and learn about hibernation\, migration and adaptation.  Monarchs fly to Mexico\, Groundhog goes to bed\, and Weasel changes his wardrobe!  Find out how other animals cope with winter’s worst weather.  We will spend time outdoors seeking clues before heading into the classroom for stories\, hands-on activities and craft time. \nFee: $8 per child ($5 Dahlem member); free for adult & children under 1 year old.  Advanced Registration Required. Please register online at www.dahlemcenter.org/events or call 517-782-3453 to reserve your spot for you and your mighty naturalist(s). Payment due upon registration. Registered participants who did not attend program and/or give minimum 24 hour cancellation notice will not be refunded. \nShare your love of nature with your young child(ren). We will explore and play with nature while developing critical early childhood skills and growing self-confidence. The Mighty Naturalist Programs are geared toward children 5 years and younger with an adult caregiver to learn about animals\, winter survival\, birds\, tracks\, and more. Each program offers a different theme and activities to give you and your mighty naturalist many program opportunities. Invite your friends to sign up\, too. \nMighty Naturalist Schedule 2020\nJanuary 3; Nature Painting and Textures Art Class\nJanuary 10; Snow Much Fun\nJanuary 17; How Animals Survive in Winter Time\nJanuary 24; Our Feathered Friends\nJanuary 31; Winter Animal Tracks\nFebruary 7; Super Squirrely\nFebruary 14; Tree House – Who Lives There?\nApril 3; Life Under A Log \n  \n\n  \nRegister Online\n\n\n 
URL:https://www.dahlemcenter.org/event/mighty-naturalist-program-how-animals-survive-in-winter-time/
CATEGORIES:Education,Mighty Naturalist
ATTACH;FMTTYPE=image/jpeg:https://www.dahlemcenter.org/wp-content/uploads/2018/12/Bunny-_in_winter.jpg
END:VEVENT
BEGIN:VEVENT
DTSTART;TZID=America/Detroit:20200124T093000
DTEND;TZID=America/Detroit:20200124T104500
DTSTAMP:20260422T141658
CREATED:20181213T203405Z
LAST-MODIFIED:20191218T182006Z
UID:7382-1579858200-1579862700@www.dahlemcenter.org
SUMMARY:Mighty Naturalist Program; Our Feathered Friends
DESCRIPTION:Our Feathered Friends Program is for ages 1-5 years old with a caregiver. \nProgram Description: What is unique about birds\, and what do their characteristics (feathers\, feet\, beak\, color\, etc.) tell us about their life?  We will read a bird-themed story\, look at bird feathers\, take a short birding hike to observe our local birds in action\, then return indoors for hands-on ‘beak’ activities\, and make a small bird feeder to take home. Join us\, and help feed the birds! \nFee: $8 per child ($5 Dahlem member); free for adult & children under 1 year old.  Advanced Registration Required. Please register online at www.dahlemcenter.org/events or call 517-782-3453 to reserve your spot for you and your mighty naturalist(s). Payment due upon registration. Registered participants who did not attend program and/or give minimum 24 hour cancellation notice will not be refunded. \nShare your love of nature with your young child(ren). We will explore and play with nature while developing critical early childhood skills and growing self-confidence. The Mighty Naturalist Programs are geared toward children 5 years and younger with an adult caregiver to learn about animals\, winter survival\, birds\, tracks\, and more. Each program offers a different theme and activities to give you and your mighty naturalist many program opportunities. Invite your friends to sign up\, too. \nMighty Naturalist Schedule 2020\nJanuary 3; Nature Painting and Textures Art Class\nJanuary 10; Snow Much Fun\nJanuary 17; How Animals Survive in Winter Time\nJanuary 24; Our Feathered Friends\nJanuary 31; Winter Animal Tracks\nFebruary 7; Super Squirrely\nFebruary 14; Tree House – Who Lives There?\nApril 3; Life Under A Log \n\n  \nRegister Online\n\n\n 
URL:https://www.dahlemcenter.org/event/mighty-naturalist-program-our-feathered-friends/
CATEGORIES:Education,Mighty Naturalist
ATTACH;FMTTYPE=image/png:https://www.dahlemcenter.org/wp-content/uploads/2018/12/Winter-Titmouse.png
END:VEVENT
BEGIN:VEVENT
DTSTART;TZID=America/Detroit:20200131T093000
DTEND;TZID=America/Detroit:20200131T104500
DTSTAMP:20260422T141658
CREATED:20181213T202546Z
LAST-MODIFIED:20191218T184714Z
UID:7373-1580463000-1580467500@www.dahlemcenter.org
SUMMARY:Mighty Naturalist Program; Winter Animal Tracks
DESCRIPTION:Winter Animal Tracks Program is for ages 1-5 years old with a caregiver. \nProgram Description:  How animals make tracks can tell us what they are\, what they’re  doing and where they’re headed.  We’ll read a story go on a hunt to see where animal tracks take us; across a trail and up a tree\, along the stream\, or maybe to a protected home hidden under trees?   Indoors we will use rubber tracks to create our own tracks and stories.  One step at a time and you’ll learn the common tracks we see this time of year. \nFee: $8 per child ($5 Dahlem member); free for adult & children under 1 year old.  Advanced Registration Required. Please register online at www.dahlemcenter.org/events or call 517-782-3453 to reserve your spot for you and your mighty naturalist(s). Payment due upon registration. Registered participants who did not attend program and/or give minimum 24 hour cancellation notice will not be refunded. \nShare your love of nature with your young child(ren). We will explore and play with nature while developing critical early childhood skills and growing self-confidence. The Mighty Naturalist Programs are geared toward children 5 years and younger with an adult caregiver to learn about animals\, winter survival\, birds\, tracks\, and more. Each program offers a different theme and activities to give you and your mighty naturalist many program opportunities. Invite your friends to sign up\, too. \nMighty Naturalist Schedule 2020\nJanuary 3; Nature Painting and Textures Art Class\nJanuary 10; Snow Much Fun\nJanuary 17; How Animals Survive in Winter Time\nJanuary 24; Our Feathered Friends\nJanuary 31; Winter Animal Tracks\nFebruary 7; Super Squirrely\nFebruary 14; Tree House – Who Lives There?\nApril 3; Life Under A Log \n\n  \nRegister Online\n\n\n 
URL:https://www.dahlemcenter.org/event/mighty-naturalist-program-winter-animal-tracks/
CATEGORIES:Education,Mighty Naturalist
ATTACH;FMTTYPE=image/jpeg:https://www.dahlemcenter.org/wp-content/uploads/2018/12/Animal-Tracks-pic.jpg
END:VEVENT
END:VCALENDAR