BEGIN:VCALENDAR
VERSION:2.0
PRODID:-//Dahlem - ECPv6.15.20//NONSGML v1.0//EN
CALSCALE:GREGORIAN
METHOD:PUBLISH
X-WR-CALNAME:Dahlem
X-ORIGINAL-URL:https://www.dahlemcenter.org
X-WR-CALDESC:Events for Dahlem
REFRESH-INTERVAL;VALUE=DURATION:PT1H
X-Robots-Tag:noindex
X-PUBLISHED-TTL:PT1H
BEGIN:VTIMEZONE
TZID:America/Detroit
BEGIN:DAYLIGHT
TZOFFSETFROM:-0500
TZOFFSETTO:-0400
TZNAME:EDT
DTSTART:20200308T070000
END:DAYLIGHT
BEGIN:STANDARD
TZOFFSETFROM:-0400
TZOFFSETTO:-0500
TZNAME:EST
DTSTART:20201101T060000
END:STANDARD
BEGIN:DAYLIGHT
TZOFFSETFROM:-0500
TZOFFSETTO:-0400
TZNAME:EDT
DTSTART:20210314T070000
END:DAYLIGHT
BEGIN:STANDARD
TZOFFSETFROM:-0400
TZOFFSETTO:-0500
TZNAME:EST
DTSTART:20211107T060000
END:STANDARD
BEGIN:DAYLIGHT
TZOFFSETFROM:-0500
TZOFFSETTO:-0400
TZNAME:EDT
DTSTART:20220313T070000
END:DAYLIGHT
BEGIN:STANDARD
TZOFFSETFROM:-0400
TZOFFSETTO:-0500
TZNAME:EST
DTSTART:20221106T060000
END:STANDARD
END:VTIMEZONE
BEGIN:VEVENT
DTSTART;TZID=America/Detroit:20210121T180000
DTEND;TZID=America/Detroit:20210121T193000
DTSTAMP:20260421T172053
CREATED:20210108T195109Z
LAST-MODIFIED:20210914T023106Z
UID:8982-1611252000-1611257400@www.dahlemcenter.org
SUMMARY:Explore the Night: Night Hike & Guided Telescope Observing - January 21\, 2021 CANCELLED
DESCRIPTION: .\n\nExplore the Night\nJoin Ella Sharp Museum and the Dahlem Center for a wonderful night under the stars!  Let’s explore and use our night senses. The goal for our night walk led my Dahlem Naturalist Educator Carrie Benham is to help people enjoy being outdoors after dark\, help them feel safe\, and share information about nocturnal animals\, the senses they use at night\, and how we can better develop our own senses and awareness of the dark. Afterwards\, Ella Sharp will be providing guided telescope observing. We will be observing the dark sky to view the planets\, watch the stars come out\, and many other celestial wonders. Telescope observing is dependent on clear skies. Tickets are nonrefundable. In the event of a rain day\, tickets will be applied to a rescheduled date.\n\n\nPrice: $8 for members (either Dahlem or Ella) / $10 for non-members \nRegister online at Ella Sharp Museum \nDates: \n\nJanuary 21\, 2021 @ 6:00 pm ~~ CANCELLED\nFebruary 18\, 2021 @ 6:00 pm\nMarch 18\, 2021 @ 7:30 pm\nApril 15\, 2021 @ 8:00 pm\nJune 17\, 2021 @ Time TBD\nJuly 15\, 2021 @ Time TBD\nAugust 19\, 2021 @ Time TBD\nSeptember 16\, 2021 @ Time TBD\nOctober 21\, 2021 @ Time TBD\nNovember 18\, 2021 @ Time TBD\nDecember 16\, 2021 @ Time TBD\n\n\n\n\n\n\n\n\n\nPlease note\, outdoor capacity is limited as we will be practicing social distancing on the trails. Attendees will be required to fill out a health screening survey\, have their temperature checked\, and must wear a mask. There will also be hands-free telescope observing and sanitization products will be present.\n\n\n\n\n\n\n\n\n\nProceeds from this program benefit both the Dahlem Center and Ella Sharp Museum. \n\n\n\n\nEvent Location: \nDahlem Center\n7117 South Jackson Road\nJackson\, MI 49201
URL:https://www.dahlemcenter.org/event/explore-the-night-night-hike-guided-telescope-observing-january-21-2021/
LOCATION:Dahlem\, Jackson’s Nature Place\, 7117 S. Jackson Rd.\, Jackson\, MI\, 49201\, United States
CATEGORIES:Education
ATTACH;FMTTYPE=image/jpeg:https://www.dahlemcenter.org/wp-content/uploads/2020/12/Explore-the-Night-2020-Jan-April.jpg
END:VEVENT
END:VCALENDAR