BEGIN:VCALENDAR
VERSION:2.0
PRODID:-//Dahlem - ECPv6.15.20//NONSGML v1.0//EN
CALSCALE:GREGORIAN
METHOD:PUBLISH
X-ORIGINAL-URL:https://www.dahlemcenter.org
X-WR-CALDESC:Events for Dahlem
REFRESH-INTERVAL;VALUE=DURATION:PT1H
X-Robots-Tag:noindex
X-PUBLISHED-TTL:PT1H
BEGIN:VTIMEZONE
TZID:America/Detroit
BEGIN:DAYLIGHT
TZOFFSETFROM:-0500
TZOFFSETTO:-0400
TZNAME:EDT
DTSTART:20200308T070000
END:DAYLIGHT
BEGIN:STANDARD
TZOFFSETFROM:-0400
TZOFFSETTO:-0500
TZNAME:EST
DTSTART:20201101T060000
END:STANDARD
BEGIN:DAYLIGHT
TZOFFSETFROM:-0500
TZOFFSETTO:-0400
TZNAME:EDT
DTSTART:20210314T070000
END:DAYLIGHT
BEGIN:STANDARD
TZOFFSETFROM:-0400
TZOFFSETTO:-0500
TZNAME:EST
DTSTART:20211107T060000
END:STANDARD
BEGIN:DAYLIGHT
TZOFFSETFROM:-0500
TZOFFSETTO:-0400
TZNAME:EDT
DTSTART:20220313T070000
END:DAYLIGHT
BEGIN:STANDARD
TZOFFSETFROM:-0400
TZOFFSETTO:-0500
TZNAME:EST
DTSTART:20221106T060000
END:STANDARD
END:VTIMEZONE
BEGIN:VEVENT
DTSTART;TZID=America/Detroit:20210508T090000
DTEND;TZID=America/Detroit:20210508T130000
DTSTAMP:20260421T104630
CREATED:20210401T174008Z
LAST-MODIFIED:20210914T023141Z
UID:9181-1620464400-1620478800@www.dahlemcenter.org
SUMMARY:Annual Spring Work Bee 2021
DESCRIPTION:It is the perfect time of the year to address any maintenance that is necessary for spring and summer.  This year’s Annual Spring Work Bee is on Saturday May 8th\, 2021 from 9:00 AM – 1:00 PM.\nVolunteers please arrive at 8:45 AM to sign in and complete a Health Screening form (for covid-19). Assignments are given out at the start of the day at 9:00 AM. After the work is done we will have a complimentary Thank You picnic lunch! The staff will provide grilled hot dogs\, snacks and refreshments for all volunteers participating this day!\n** Please complete the form below so we know how many volunteers to anticipate and provide lunch for **\n\nWhat will I be doing at the Work Bee?\nAssignments are given out at the start of the day at 9:00 AM. If you have an interest in something particular\, let us know! Our goal is to utilize a volunteer’s individual strengths as much as possible. Here are some areas we plan to tackle: \n\nClear out invasive plants along the trails\nPlace wood chips on the Natural Playscape and other areas of need\nWeeding around the buildings and flower gardens\nWash windows\, bird feeders\, and outdoor signage\nClean and organize the McLaughlin pole barn\n\nWe welcome you to bring your own personal equipment such as rakes\, garden shears\, loppers\, and other tools that would help assist the process.  Remember to; dress for the weather\, bring your work gloves and a bottle of water!  Everyone will be working outdoors\, wear a face mask\, and observe social distancing. \nFeel free to contact the office at 517-782-3453 should you have questions or concerns.  Thank you!
URL:https://www.dahlemcenter.org/event/annual-spring-work-bee-thank-you-lunch/
LOCATION:Dahlem\, Jackson’s Nature Place\, 7117 S. Jackson Rd.\, Jackson\, MI\, 49201\, United States
CATEGORIES:Event-Festival
END:VEVENT
BEGIN:VEVENT
DTSTART;TZID=America/Detroit:20210527T203000
DTEND;TZID=America/Detroit:20210527T220000
DTSTAMP:20260421T104630
CREATED:20210330T164904Z
LAST-MODIFIED:20210914T023151Z
UID:9151-1622147400-1622152800@www.dahlemcenter.org
SUMMARY:Explore the Night: Night Hike & Guided Telescope Observing - May 27\, 2021
DESCRIPTION: .\n\nExplore the Night\n\nLet’s explore and use our night senses! Join Ella Sharp Museum and the Dahlem Center for a wonderful night under the stars! \nThe night walk\, led by Dahlem Naturalist Educator Carrie Benham\, is to help people enjoy being outdoors after dark. We intend to help you feel safe while outdoors at night\, share information about nocturnal animals and the senses they use\, and how we as humans can better develop our own senses and awareness of the dark. \nElla Sharp Museum will be providing hands-free guided telescope observing with Planetarium Operator\, Austin Edmister. We will be observing to view the planets and many other celestial wonders\, and watching the stars come out. Telescope observing is dependent on clear skies and weather permitting. \nTickets are nonrefundable. In the event of a rain day\, tickets will be applied to a rescheduled date. Recommended for ages 16+. \nPlease note\, outdoor capacity is limited as we will be practicing social distancing on the trails. Attendees will be required to fill out a health screening survey\, have their temperature checked\, and must wear a mask. There will also be hands-free telescope observing and sanitization products will be present. \nThank you for your support of two local non-profits during this difficult time. Proceeds from this program benefit both the Dahlem Center and Ella Sharp Museum. Your ticket supports this program and future programming. \nRegistration: go to Ella Sharp Museum’s website https://ellasharpmuseum.org/classes-and-events/explore-the-night \nProgram Location:  Dahlem Center\, 7117 S Jackson Rd\, Jackson\, MI 49201 \nPrice: $12 per person \nDates: \n\nApril 22\, 2021 @ 7:00pm\nMay 27\, 2021 @ 8:30pm\nAugust 26\, 2021 @ 7:30pm\nSeptember 23\, 2021 @ 6:30pm\nOctober 28\, 2021 @ 6:00pm\nNovember 18\, 2021 @ 6:00pm\n\nClick here to Register Now!
URL:https://www.dahlemcenter.org/event/explore-the-night-night-hike-guided-telescope-observing-may-27-2021/
LOCATION:Dahlem\, Jackson’s Nature Place\, 7117 S. Jackson Rd.\, Jackson\, MI\, 49201\, United States
CATEGORIES:Education
ATTACH;FMTTYPE=image/jpeg:https://www.dahlemcenter.org/wp-content/uploads/2020/12/Explore-the-Night-2020-Jan-April.jpg
END:VEVENT
END:VCALENDAR