BEGIN:VCALENDAR
VERSION:2.0
PRODID:-//Dahlem - ECPv6.15.20//NONSGML v1.0//EN
CALSCALE:GREGORIAN
METHOD:PUBLISH
X-WR-CALNAME:Dahlem
X-ORIGINAL-URL:https://www.dahlemcenter.org
X-WR-CALDESC:Events for Dahlem
REFRESH-INTERVAL;VALUE=DURATION:PT1H
X-Robots-Tag:noindex
X-PUBLISHED-TTL:PT1H
BEGIN:VTIMEZONE
TZID:America/Detroit
BEGIN:DAYLIGHT
TZOFFSETFROM:-0500
TZOFFSETTO:-0400
TZNAME:EDT
DTSTART:20200308T070000
END:DAYLIGHT
BEGIN:STANDARD
TZOFFSETFROM:-0400
TZOFFSETTO:-0500
TZNAME:EST
DTSTART:20201101T060000
END:STANDARD
BEGIN:DAYLIGHT
TZOFFSETFROM:-0500
TZOFFSETTO:-0400
TZNAME:EDT
DTSTART:20210314T070000
END:DAYLIGHT
BEGIN:STANDARD
TZOFFSETFROM:-0400
TZOFFSETTO:-0500
TZNAME:EST
DTSTART:20211107T060000
END:STANDARD
BEGIN:DAYLIGHT
TZOFFSETFROM:-0500
TZOFFSETTO:-0400
TZNAME:EDT
DTSTART:20220313T070000
END:DAYLIGHT
BEGIN:STANDARD
TZOFFSETFROM:-0400
TZOFFSETTO:-0500
TZNAME:EST
DTSTART:20221106T060000
END:STANDARD
END:VTIMEZONE
BEGIN:VEVENT
DTSTART;TZID=America/Detroit:20210619T100000
DTEND;TZID=America/Detroit:20210619T120000
DTSTAMP:20260421T090533
CREATED:20210419T211810Z
LAST-MODIFIED:20210914T023159Z
UID:9196-1624096800-1624104000@www.dahlemcenter.org
SUMMARY:Dahlem for Dogs!
DESCRIPTION:Join us again as the Jackson County Animal Shelter comes out to the Dahlem Ecology Farm & Community Gardens to enjoy our dog friendly half mile Butterfly Trail. Come out and volunteer to walk one of the shelter dogs\, adopt a dog or bring your dog for a walk.  All dogs brought by the shelter will be available for adoption – last time four puppies found their forever homes\, help us find more homes! \nAll dogs must be on a 6 foot leash for their safety and others. Please follow the CDC covid-19 guidelines by wearing a face mask\, social distance and use hand sanitizer. \nThe Butterfly Trail can be accessed from the Dahlem Ecology Farm 1429 Wickwire Rd. – Look for the Big White Barn and Community Gardens! \nNot ready to adopt? That’s ok! Come on out anyway\, and help us give all these deserving dogs a walk!
URL:https://www.dahlemcenter.org/event/dahlem-for-dogs-2/
LOCATION:Dahlem Ecology Farm\, 1427 Wickwire Rd\, Jackson\, MI\, 49201\, United States
CATEGORIES:Event-Festival
ATTACH;FMTTYPE=image/jpeg:https://www.dahlemcenter.org/wp-content/uploads/2019/06/67237010_10157474461083343_8523693440242810880_n.jpg
END:VEVENT
END:VCALENDAR