BEGIN:VCALENDAR
VERSION:2.0
PRODID:-//Dahlem - ECPv6.15.20//NONSGML v1.0//EN
CALSCALE:GREGORIAN
METHOD:PUBLISH
X-ORIGINAL-URL:https://www.dahlemcenter.org
X-WR-CALDESC:Events for Dahlem
REFRESH-INTERVAL;VALUE=DURATION:PT1H
X-Robots-Tag:noindex
X-PUBLISHED-TTL:PT1H
BEGIN:VTIMEZONE
TZID:America/Detroit
BEGIN:DAYLIGHT
TZOFFSETFROM:-0500
TZOFFSETTO:-0400
TZNAME:EDT
DTSTART:20200308T070000
END:DAYLIGHT
BEGIN:STANDARD
TZOFFSETFROM:-0400
TZOFFSETTO:-0500
TZNAME:EST
DTSTART:20201101T060000
END:STANDARD
BEGIN:DAYLIGHT
TZOFFSETFROM:-0500
TZOFFSETTO:-0400
TZNAME:EDT
DTSTART:20210314T070000
END:DAYLIGHT
BEGIN:STANDARD
TZOFFSETFROM:-0400
TZOFFSETTO:-0500
TZNAME:EST
DTSTART:20211107T060000
END:STANDARD
BEGIN:DAYLIGHT
TZOFFSETFROM:-0500
TZOFFSETTO:-0400
TZNAME:EDT
DTSTART:20220313T070000
END:DAYLIGHT
BEGIN:STANDARD
TZOFFSETFROM:-0400
TZOFFSETTO:-0500
TZNAME:EST
DTSTART:20221106T060000
END:STANDARD
END:VTIMEZONE
BEGIN:VEVENT
DTSTART;TZID=America/Detroit:20210826T193000
DTEND;TZID=America/Detroit:20210826T213000
DTSTAMP:20260421T061545
CREATED:20210330T165031Z
LAST-MODIFIED:20210914T023003Z
UID:9153-1630006200-1630013400@www.dahlemcenter.org
SUMMARY:Explore the Night: Night Hike & Guided Telescope Observing - August 26\, 2021
DESCRIPTION: .\n\nExplore the Night\n\nLet’s explore and use our night senses! Join Ella Sharp Museum and the Dahlem Center for a wonderful night under the stars! \nThe night walk\, led by Dahlem Naturalist Educator Carrie Benham\, is to help people enjoy being outdoors after dark. We intend to help you feel safe while outdoors at night\, share information about nocturnal animals and the senses they use\, and how we as humans can better develop our own senses and awareness of the dark. \nElla Sharp Museum will be providing hands-free guided telescope observing with Planetarium Operator\, Austin Edmister. We will be observing to view the planets and many other celestial wonders\, and watching the stars come out. Telescope observing is dependent on clear skies and weather permitting. \nTickets are nonrefundable. In the event of a rain day\, tickets will be applied to a rescheduled date. Recommended for ages 16+. \nPlease note\, outdoor capacity is limited as we will be practicing social distancing on the trails. Attendees will be required to fill out a health screening survey\, have their temperature checked\, and must wear a mask. There will also be hands-free telescope observing and sanitization products will be present. \nThank you for your support of two local non-profits during this difficult time. Proceeds from this program benefit both the Dahlem Center and Ella Sharp Museum. Your ticket supports this program and future programming. \nRegistration: go to Ella Sharp Museum’s website https://ellasharpmuseum.org/classes-and-events/explore-the-night \nProgram Location:  Dahlem Center\, 7117 S Jackson Rd\, Jackson\, MI 49201 \nPrice: $12 per person \nDates: \n\nApril 22\, 2021 @ 7:00pm\nMay 27\, 2021 @ 8:00pm\nAugust 26\, 2021 @ 7:30pm\nSeptember 23\, 2021 @ 6:30pm\nOctober 28\, 2021 @ 6:00pm\nNovember 18\, 2021 @ 6:00pm\n\nClick here to Register Now!
URL:https://www.dahlemcenter.org/event/explore-the-night-night-hike-guided-telescope-observing-august-26-2021/
LOCATION:Dahlem\, Jackson’s Nature Place\, 7117 S. Jackson Rd.\, Jackson\, MI\, 49201\, United States
CATEGORIES:Education
ATTACH;FMTTYPE=image/jpeg:https://www.dahlemcenter.org/wp-content/uploads/2020/12/Explore-the-Night-2020-Jan-April.jpg
END:VEVENT
END:VCALENDAR